Package: ExperimentHubData Version: 1.37.0 Command: rm -rf ExperimentHubData.buildbin-libdir && mkdir ExperimentHubData.buildbin-libdir && /Users/biocbuild/BBS/utils/build-universal.sh ExperimentHubData_1.37.0.tar.gz /Library/Frameworks/R.framework/Resources/bin/R ExperimentHubData.buildbin-libdir StartedAt: 2025-11-12 20:57:21 -0500 (Wed, 12 Nov 2025) EndedAt: 2025-11-12 20:57:41 -0500 (Wed, 12 Nov 2025) EllapsedTime: 20.4 seconds RetCode: 0 Status: OK PackageFile: ExperimentHubData_1.37.0.tgz PackageFileSize: 516.5 KiB