Package: ExiMiR Version: 2.53.0 Command: /home/biocbuild/bbs-3.23-bioc/R/bin/R CMD INSTALL ExiMiR StartedAt: 2025-11-11 15:16:43 -0500 (Tue, 11 Nov 2025) EndedAt: 2025-11-11 15:16:48 -0500 (Tue, 11 Nov 2025) EllapsedTime: 5.7 seconds RetCode: 0 Status: OK