Package: ExiMiR Version: 2.53.0 Command: /home/biocbuild/bbs-3.23-bioc/R/bin/R CMD build --keep-empty-dirs --no-resave-data ExiMiR StartedAt: 2025-11-11 17:36:05 -0500 (Tue, 11 Nov 2025) EndedAt: 2025-11-11 17:37:11 -0500 (Tue, 11 Nov 2025) EllapsedTime: 66.1 seconds RetCode: 0 Status: OK PackageFile: ExiMiR_2.53.0.tar.gz PackageFileSize: 1.507 MiB