Package: ExiMiR Version: 2.53.0 Command: /Library/Frameworks/R.framework/Resources/bin/R CMD build --keep-empty-dirs --no-resave-data ExiMiR StartedAt: 2025-11-13 16:22:49 -0500 (Thu, 13 Nov 2025) EndedAt: 2025-11-13 16:23:14 -0500 (Thu, 13 Nov 2025) EllapsedTime: 24.3 seconds RetCode: 0 Status: OK PackageFile: ExiMiR_2.53.0.tar.gz PackageFileSize: 1.507 MiB