Package: ExiMiR Version: 2.53.0 Maintainer: Sylvain Gubian MaintainerEmail: DL.RSupport at pmi.com git_url: https://git.bioconductor.org/packages/ExiMiR git_branch: devel git_last_commit: 6d3b680 git_last_commit_date: 2025-10-29 10:06:33 -0500 (Wed, 29 Oct 2025)