Package: ExCluster Version: 1.29.0 Command: /Library/Frameworks/R.framework/Resources/bin/R CMD INSTALL ExCluster StartedAt: 2025-11-13 15:16:13 -0500 (Thu, 13 Nov 2025) EndedAt: 2025-11-13 15:16:25 -0500 (Thu, 13 Nov 2025) EllapsedTime: 11.7 seconds RetCode: 0 Status: OK