Package: ExCluster Version: 1.29.0 Command: /Library/Frameworks/R.framework/Resources/bin/R CMD build --keep-empty-dirs --no-resave-data ExCluster StartedAt: 2025-11-14 16:19:40 -0500 (Fri, 14 Nov 2025) EndedAt: 2025-11-14 16:20:00 -0500 (Fri, 14 Nov 2025) EllapsedTime: 19.2 seconds RetCode: 0 Status: OK PackageFile: ExCluster_1.29.0.tar.gz PackageFileSize: 405.4 KiB