Package: ExCluster Version: 1.29.0 Command: rm -rf ExCluster.buildbin-libdir && mkdir ExCluster.buildbin-libdir && /Users/biocbuild/BBS/utils/build-universal.sh ExCluster_1.29.0.tar.gz /Library/Frameworks/R.framework/Resources/bin/R ExCluster.buildbin-libdir StartedAt: 2025-11-13 23:37:15 -0500 (Thu, 13 Nov 2025) EndedAt: 2025-11-13 23:37:31 -0500 (Thu, 13 Nov 2025) EllapsedTime: 15.4 seconds RetCode: 0 Status: OK PackageFile: ExCluster_1.29.0.tgz PackageFileSize: 487.5 KiB