Package: ExCluster Version: 1.29.0 Maintainer: R. Matthew Tanner MaintainerEmail: rtann038 at uottawa.ca git_url: https://git.bioconductor.org/packages/ExCluster git_branch: devel git_last_commit: 9571f20 git_last_commit_date: 2025-10-29 10:47:47 -0500 (Wed, 29 Oct 2025)