Package: EventPointer Version: 3.19.0 Command: /home/biocbuild/bbs-3.23-bioc/R/bin/R CMD INSTALL EventPointer StartedAt: 2025-11-13 16:00:37 -0500 (Thu, 13 Nov 2025) EndedAt: 2025-11-13 16:00:51 -0500 (Thu, 13 Nov 2025) EllapsedTime: 14.3 seconds RetCode: 1 Status: ERROR