Package: EventPointer Version: 3.19.0 Command: /Library/Frameworks/R.framework/Resources/bin/R CMD build --keep-empty-dirs --no-resave-data EventPointer StartedAt: 2025-11-14 16:19:29 -0500 (Fri, 14 Nov 2025) EndedAt: 2025-11-14 16:19:35 -0500 (Fri, 14 Nov 2025) EllapsedTime: 6.1 seconds RetCode: 1 Status: ERROR PackageFile: None PackageFileSize: NA