Package: EpipwR Version: 1.5.0 Command: /home/biocbuild/bbs-3.23-bioc/R/bin/R CMD build --keep-empty-dirs --no-resave-data EpipwR StartedAt: 2025-11-14 17:30:00 -0500 (Fri, 14 Nov 2025) EndedAt: 2025-11-14 17:30:20 -0500 (Fri, 14 Nov 2025) EllapsedTime: 20.0 seconds RetCode: 0 Status: OK PackageFile: EpipwR_1.5.0.tar.gz PackageFileSize: 126.5 KiB