Package: EpipwR Version: 1.5.0 Command: /Library/Frameworks/R.framework/Resources/bin/R CMD build --keep-empty-dirs --no-resave-data EpipwR StartedAt: 2025-11-14 16:17:46 -0500 (Fri, 14 Nov 2025) EndedAt: 2025-11-14 16:17:55 -0500 (Fri, 14 Nov 2025) EllapsedTime: 9.1 seconds RetCode: 0 Status: OK PackageFile: EpipwR_1.5.0.tar.gz PackageFileSize: 126.6 KiB