Package: EpipwR Version: 1.5.0 Maintainer: Jackson Barth MaintainerEmail: Jackson_Barth at Baylor.edu git_url: https://git.bioconductor.org/packages/EpipwR git_branch: devel git_last_commit: 409b2c6 git_last_commit_date: 2025-10-29 11:32:19 -0500 (Wed, 29 Oct 2025)