Package: EpiTxDb Version: 1.23.0 Command: /Library/Frameworks/R.framework/Resources/bin/R CMD INSTALL EpiTxDb StartedAt: 2025-11-14 15:22:11 -0500 (Fri, 14 Nov 2025) EndedAt: 2025-11-14 15:22:12 -0500 (Fri, 14 Nov 2025) EllapsedTime: 1.0 seconds RetCode: 1 Status: ERROR