############################################################################## ############################################################################## ### ### Running command: ### ### /Library/Frameworks/R.framework/Resources/bin/R CMD INSTALL EpiTxDb ### ############################################################################## ############################################################################## * installing to library ‘/Library/Frameworks/R.framework/Versions/4.6-arm64/Resources/library’ ERROR: dependencies ‘Modstrings’, ‘tRNAdbImport’ are not available for package ‘EpiTxDb’ Perhaps try a variation of: install.packages(c('Modstrings', 'tRNAdbImport')) * removing ‘/Library/Frameworks/R.framework/Versions/4.6-arm64/Resources/library/EpiTxDb’