Package: EpiTxDb Version: 1.23.0 Command: /Library/Frameworks/R.framework/Resources/bin/R CMD build --keep-empty-dirs --no-resave-data EpiTxDb StartedAt: 2025-11-14 16:18:25 -0500 (Fri, 14 Nov 2025) EndedAt: 2025-11-14 16:18:26 -0500 (Fri, 14 Nov 2025) EllapsedTime: 1.0 seconds RetCode: 1 Status: ERROR PackageFile: None PackageFileSize: NA