############################################################################## ############################################################################## ### ### Running command: ### ### /Library/Frameworks/R.framework/Resources/bin/R CMD build --keep-empty-dirs --no-resave-data EpiTxDb ### ############################################################################## ############################################################################## * checking for file ‘EpiTxDb/DESCRIPTION’ ... OK * preparing ‘EpiTxDb’: * checking DESCRIPTION meta-information ... OK * installing the package (it is needed to build vignettes) ----------------------------------- ERROR: dependencies ‘Modstrings’, ‘tRNAdbImport’ are not available for package ‘EpiTxDb’ Perhaps try a variation of: install.packages(c('Modstrings', 'tRNAdbImport')) * removing ‘/private/var/folders/r0/l4fjk6cj5xj0j3brt4bplpl40000gt/T/Rtmp2wGmru/Rinst247b5bec3fba/EpiTxDb’ ----------------------------------- ERROR: package installation failed