Package: EpiDISH Version: 2.27.0 Maintainer: Shijie C. Zheng MaintainerEmail: shijieczheng at gmail.com git_url: https://git.bioconductor.org/packages/EpiDISH git_branch: devel git_last_commit: 2d13773 git_last_commit_date: 2025-10-29 10:39:42 -0500 (Wed, 29 Oct 2025)