Package: EpiCompare Version: 1.15.1 Command: /Library/Frameworks/R.framework/Resources/bin/R CMD INSTALL EpiCompare StartedAt: 2025-11-25 15:31:41 -0500 (Tue, 25 Nov 2025) EndedAt: 2025-11-25 15:32:01 -0500 (Tue, 25 Nov 2025) EllapsedTime: 20.4 seconds RetCode: 0 Status: OK