Package: EpiCompare Version: 1.15.1 Command: /Library/Frameworks/R.framework/Resources/bin/R CMD build --keep-empty-dirs --no-resave-data EpiCompare StartedAt: 2025-11-26 16:17:17 -0500 (Wed, 26 Nov 2025) EndedAt: 2025-11-26 16:17:50 -0500 (Wed, 26 Nov 2025) EllapsedTime: 32.3 seconds RetCode: 0 Status: OK PackageFile: EpiCompare_1.15.1.tar.gz PackageFileSize: 1.875 MiB