Package: EnrichmentBrowser Version: 2.41.0 Command: /home/biocbuild/bbs-3.23-bioc/R/bin/R CMD INSTALL EnrichmentBrowser StartedAt: 2025-11-13 15:58:50 -0500 (Thu, 13 Nov 2025) EndedAt: 2025-11-13 15:59:22 -0500 (Thu, 13 Nov 2025) EllapsedTime: 31.9 seconds RetCode: 0 Status: OK