Package: EnrichmentBrowser Version: 2.41.0 Command: /home/biocbuild/bbs-3.23-bioc/R/bin/R CMD build --keep-empty-dirs --no-resave-data EnrichmentBrowser StartedAt: 2025-11-11 17:30:49 -0500 (Tue, 11 Nov 2025) EndedAt: 2025-11-11 17:32:39 -0500 (Tue, 11 Nov 2025) EllapsedTime: 110.2 seconds RetCode: 0 Status: OK PackageFile: EnrichmentBrowser_2.41.0.tar.gz PackageFileSize: 1.314 MiB