Package: EnrichmentBrowser Version: 2.41.0 Command: /Library/Frameworks/R.framework/Resources/bin/R CMD INSTALL EnrichmentBrowser StartedAt: 2025-11-13 15:33:37 -0500 (Thu, 13 Nov 2025) EndedAt: 2025-11-13 15:33:50 -0500 (Thu, 13 Nov 2025) EllapsedTime: 12.5 seconds RetCode: 0 Status: OK