############################################################################## ############################################################################## ### ### Running command: ### ### /Library/Frameworks/R.framework/Resources/bin/R CMD build --keep-empty-dirs --no-resave-data EnrichmentBrowser ### ############################################################################## ############################################################################## * checking for file ‘EnrichmentBrowser/DESCRIPTION’ ... OK * preparing ‘EnrichmentBrowser’: * checking DESCRIPTION meta-information ... OK * installing the package (it is needed to build vignettes) ----------------------------------- ERROR: dependency ‘edgeR’ is not available for package ‘EnrichmentBrowser’ Perhaps try a variation of: install.packages('edgeR') * removing ‘/private/var/folders/r0/l4fjk6cj5xj0j3brt4bplpl40000gt/T/Rtmp9HkM7y/Rinst8a90656c75c2/EnrichmentBrowser’ ----------------------------------- ERROR: package installation failed