Package: EnrichedHeatmap Version: 1.41.0 Command: /Library/Frameworks/R.framework/Resources/bin/R CMD INSTALL EnrichedHeatmap StartedAt: 2025-11-13 15:10:26 -0500 (Thu, 13 Nov 2025) EndedAt: 2025-11-13 15:10:32 -0500 (Thu, 13 Nov 2025) EllapsedTime: 6.0 seconds RetCode: 0 Status: OK