Package: EnrichedHeatmap Version: 1.41.0 Command: /Library/Frameworks/R.framework/Resources/bin/R CMD build --keep-empty-dirs --no-resave-data EnrichedHeatmap StartedAt: 2025-11-13 16:19:56 -0500 (Thu, 13 Nov 2025) EndedAt: 2025-11-13 16:22:10 -0500 (Thu, 13 Nov 2025) EllapsedTime: 133.4 seconds RetCode: 0 Status: OK PackageFile: EnrichedHeatmap_1.41.0.tar.gz PackageFileSize: 13.14 MiB