Package: EnrichDO Version: 1.5.0 Command: /Library/Frameworks/R.framework/Resources/bin/R CMD INSTALL EnrichDO StartedAt: 2025-11-12 15:37:16 -0500 (Wed, 12 Nov 2025) EndedAt: 2025-11-12 15:37:20 -0500 (Wed, 12 Nov 2025) EllapsedTime: 4.6 seconds RetCode: 0 Status: OK