Package: EnrichDO Version: 1.5.0 Command: /Library/Frameworks/R.framework/Resources/bin/R CMD build --keep-empty-dirs --no-resave-data EnrichDO StartedAt: 2025-11-12 16:11:48 -0500 (Wed, 12 Nov 2025) EndedAt: 2025-11-12 16:12:19 -0500 (Wed, 12 Nov 2025) EllapsedTime: 30.3 seconds RetCode: 0 Status: OK PackageFile: EnrichDO_1.5.0.tar.gz PackageFileSize: 2.554 MiB