Package: EnrichDO Version: 1.5.0 Command: rm -rf EnrichDO.buildbin-libdir && mkdir EnrichDO.buildbin-libdir && /Users/biocbuild/BBS/utils/build-universal.sh EnrichDO_1.5.0.tar.gz /Library/Frameworks/R.framework/Resources/bin/R EnrichDO.buildbin-libdir StartedAt: 2025-11-13 23:36:41 -0500 (Thu, 13 Nov 2025) EndedAt: 2025-11-13 23:36:48 -0500 (Thu, 13 Nov 2025) EllapsedTime: 7.2 seconds RetCode: 0 Status: OK PackageFile: EnrichDO_1.5.0.tgz PackageFileSize: 3.501 MiB