Package: EnrichDO Version: 1.5.0 Maintainer: Hongyu Fu MaintainerEmail: 2287531995 at qq.com git_url: https://git.bioconductor.org/packages/EnrichDO git_branch: devel git_last_commit: cb44ad0 git_last_commit_date: 2025-10-29 11:31:56 -0500 (Wed, 29 Oct 2025)