Package: EnhancedVolcano Version: 1.29.0 Command: /Library/Frameworks/R.framework/Resources/bin/R CMD INSTALL EnhancedVolcano StartedAt: 2025-11-12 15:19:06 -0500 (Wed, 12 Nov 2025) EndedAt: 2025-11-12 15:19:10 -0500 (Wed, 12 Nov 2025) EllapsedTime: 4.4 seconds RetCode: 0 Status: OK