Package: EnhancedVolcano Version: 1.29.0 Command: /Library/Frameworks/R.framework/Resources/bin/R CMD build --keep-empty-dirs --no-resave-data EnhancedVolcano StartedAt: 2025-11-12 16:11:45 -0500 (Wed, 12 Nov 2025) EndedAt: 2025-11-12 16:12:21 -0500 (Wed, 12 Nov 2025) EllapsedTime: 35.4 seconds RetCode: 0 Status: OK PackageFile: EnhancedVolcano_1.29.0.tar.gz PackageFileSize: 9.921 MiB