Package: EnhancedVolcano Version: 1.29.0 Maintainer: Kevin Blighe MaintainerEmail: kevin at clinicalbioinformatics.co.uk git_url: https://git.bioconductor.org/packages/EnhancedVolcano git_branch: devel git_last_commit: e9e0951 git_last_commit_date: 2025-10-29 10:47:03 -0500 (Wed, 29 Oct 2025)