Package: EnMCB Version: 1.23.0 Command: /Library/Frameworks/R.framework/Resources/bin/R CMD INSTALL EnMCB StartedAt: 2025-11-13 15:05:21 -0500 (Thu, 13 Nov 2025) EndedAt: 2025-11-13 15:05:33 -0500 (Thu, 13 Nov 2025) EllapsedTime: 12.1 seconds RetCode: 0 Status: OK