Package: EnMCB Version: 1.23.0 Maintainer: Xin Yu MaintainerEmail: whirlsyu at gmail.com git_url: https://git.bioconductor.org/packages/EnMCB git_branch: devel git_last_commit: 8ef58ef git_last_commit_date: 2025-10-29 10:56:09 -0500 (Wed, 29 Oct 2025)