Package: EmpiricalBrownsMethod Version: 1.39.0 Command: /Library/Frameworks/R.framework/Resources/bin/R CMD INSTALL EmpiricalBrownsMethod StartedAt: 2025-11-14 15:01:55 -0500 (Fri, 14 Nov 2025) EndedAt: 2025-11-14 15:01:58 -0500 (Fri, 14 Nov 2025) EllapsedTime: 3.2 seconds RetCode: 0 Status: OK