Package: EmpiricalBrownsMethod Version: 1.39.0 Command: /Library/Frameworks/R.framework/Resources/bin/R CMD build --keep-empty-dirs --no-resave-data EmpiricalBrownsMethod StartedAt: 2025-11-14 16:16:13 -0500 (Fri, 14 Nov 2025) EndedAt: 2025-11-14 16:16:15 -0500 (Fri, 14 Nov 2025) EllapsedTime: 2.0 seconds RetCode: 0 Status: OK PackageFile: EmpiricalBrownsMethod_1.39.0.tar.gz PackageFileSize: 38.75 KiB