Package: EmpiricalBrownsMethod Version: 1.39.0 Command: rm -rf EmpiricalBrownsMethod.buildbin-libdir && mkdir EmpiricalBrownsMethod.buildbin-libdir && /Users/biocbuild/BBS/utils/build-universal.sh EmpiricalBrownsMethod_1.39.0.tar.gz /Library/Frameworks/R.framework/Resources/bin/R EmpiricalBrownsMethod.buildbin-libdir StartedAt: 2025-11-14 23:31:43 -0500 (Fri, 14 Nov 2025) EndedAt: 2025-11-14 23:31:45 -0500 (Fri, 14 Nov 2025) EllapsedTime: 2.1 seconds RetCode: 0 Status: OK PackageFile: EmpiricalBrownsMethod_1.39.0.tgz PackageFileSize: 51.68 KiB