Package: EmpiricalBrownsMethod Version: 1.39.0 Maintainer: David Gibbs MaintainerEmail: dgibbs at systemsbiology.org git_url: https://git.bioconductor.org/packages/EmpiricalBrownsMethod git_branch: devel git_last_commit: e53115d git_last_commit_date: 2025-10-29 10:29:29 -0500 (Wed, 29 Oct 2025)