Package: EWCE Version: 1.19.0 Command: /Library/Frameworks/R.framework/Resources/bin/R CMD INSTALL EWCE StartedAt: 2025-11-21 15:12:09 -0500 (Fri, 21 Nov 2025) EndedAt: 2025-11-21 15:12:23 -0500 (Fri, 21 Nov 2025) EllapsedTime: 15.0 seconds RetCode: 0 Status: OK