Package: EWCE Version: 1.19.0 Command: /Library/Frameworks/R.framework/Resources/bin/R CMD build --keep-empty-dirs --no-resave-data EWCE StartedAt: 2025-11-21 16:19:06 -0500 (Fri, 21 Nov 2025) EndedAt: 2025-11-21 16:21:14 -0500 (Fri, 21 Nov 2025) EllapsedTime: 128.5 seconds RetCode: 0 Status: OK PackageFile: EWCE_1.19.0.tar.gz PackageFileSize: 2.539 MiB