Package: EWCE Version: 1.19.0 Command: rm -rf EWCE.buildbin-libdir && mkdir EWCE.buildbin-libdir && /Users/biocbuild/BBS/utils/build-universal.sh EWCE_1.19.0.tar.gz /Library/Frameworks/R.framework/Resources/bin/R EWCE.buildbin-libdir StartedAt: 2025-11-21 23:31:49 -0500 (Fri, 21 Nov 2025) EndedAt: 2025-11-21 23:32:08 -0500 (Fri, 21 Nov 2025) EllapsedTime: 18.5 seconds RetCode: 0 Status: OK PackageFile: EWCE_1.19.0.tgz PackageFileSize: 2.872 MiB