Package: EMDomics Version: 2.41.0 Command: /Library/Frameworks/R.framework/Resources/bin/R CMD INSTALL EMDomics StartedAt: 2025-11-16 15:07:07 -0500 (Sun, 16 Nov 2025) EndedAt: 2025-11-16 15:07:09 -0500 (Sun, 16 Nov 2025) EllapsedTime: 2.3 seconds RetCode: 0 Status: OK