Package: EMDomics Version: 2.41.0 Command: /Library/Frameworks/R.framework/Resources/bin/R CMD build --keep-empty-dirs --no-resave-data EMDomics StartedAt: 2025-11-16 16:16:24 -0500 (Sun, 16 Nov 2025) EndedAt: 2025-11-16 16:16:31 -0500 (Sun, 16 Nov 2025) EllapsedTime: 7.1 seconds RetCode: 0 Status: OK PackageFile: EMDomics_2.41.0.tar.gz PackageFileSize: 327.1 KiB