Package: EMDomics Version: 2.41.0 Command: rm -rf EMDomics.buildbin-libdir && mkdir EMDomics.buildbin-libdir && /Users/biocbuild/BBS/utils/build-universal.sh EMDomics_2.41.0.tar.gz /Library/Frameworks/R.framework/Resources/bin/R EMDomics.buildbin-libdir StartedAt: 2025-11-16 23:32:53 -0500 (Sun, 16 Nov 2025) EndedAt: 2025-11-16 23:32:57 -0500 (Sun, 16 Nov 2025) EllapsedTime: 4.1 seconds RetCode: 0 Status: OK PackageFile: EMDomics_2.41.0.tgz PackageFileSize: 419.8 KiB