Package: ELViS Version: 1.3.0 Command: /home/biocbuild/bbs-3.23-bioc/R/bin/R CMD INSTALL ELViS StartedAt: 2025-11-11 15:45:16 -0500 (Tue, 11 Nov 2025) EndedAt: 2025-11-11 15:46:00 -0500 (Tue, 11 Nov 2025) EllapsedTime: 44.3 seconds RetCode: 0 Status: OK