Package: ELViS Version: 1.3.0 Command: /home/biocbuild/bbs-3.23-bioc/R/bin/R CMD build --keep-empty-dirs --no-resave-data ELViS StartedAt: 2025-11-11 17:29:38 -0500 (Tue, 11 Nov 2025) EndedAt: 2025-11-11 17:32:21 -0500 (Tue, 11 Nov 2025) EllapsedTime: 163.3 seconds RetCode: 0 Status: OK PackageFile: ELViS_1.3.0.tar.gz PackageFileSize: 2.39 MiB