Package: ELViS Version: 1.3.0 Maintainer: Jin-Young Lee MaintainerEmail: jlee307 at uthsc.edu git_url: https://git.bioconductor.org/packages/ELViS git_branch: devel git_last_commit: 7ceb696 git_last_commit_date: 2025-10-29 11:34:26 -0500 (Wed, 29 Oct 2025)