Package: EDIRquery Version: 1.11.0 Command: /home/biocbuild/bbs-3.23-bioc/R/bin/R CMD build --keep-empty-dirs --no-resave-data EDIRquery StartedAt: 2025-11-14 17:26:28 -0500 (Fri, 14 Nov 2025) EndedAt: 2025-11-14 17:27:05 -0500 (Fri, 14 Nov 2025) EllapsedTime: 37.0 seconds RetCode: 0 Status: OK PackageFile: EDIRquery_1.11.0.tar.gz PackageFileSize: 1.376 MiB